BEGIN:VCALENDAR
VERSION:2.0
PRODID:-//Ben McNally Books - ECPv4.6.26.1//NONSGML v1.0//EN
CALSCALE:GREGORIAN
METHOD:PUBLISH
X-WR-CALNAME:Ben McNally Books
X-ORIGINAL-URL:https://benmcnallybooks.com
X-WR-CALDESC:Events for Ben McNally Books
BEGIN:VEVENT
DTSTART;TZID=UTC+0:20180919T080000
DTEND;TZID=UTC+0:20180919T090000
DTSTAMP:20260422T102106
CREATED:20180905T200236Z
LAST-MODIFIED:20180917T191953Z
UID:2193-1537344000-1537347600@benmcnallybooks.com
SUMMARY:25 Books in 25 Minutes: September Picks
DESCRIPTION:Join Ben at Assembly Chef’s Hall for his third appearance at their Wednesday morning speaker series. \nBen will be presenting another 25 books in 25 minutes featuring some of September’s must-read new releases. The event is sponsored by an Assembly vendor\, so you will be treated with free coffee and a variety of signature beverages. \nBen’s picks will also be for sale on site after the presentation. \nWhen: \nWednesday September 19\, 2018 \n8:15 am \nWhere: \nAssembly (South Patio) \n111 Richmond Street West \n\n \n000000
URL:https://benmcnallybooks.com/event/25-books-in-25-minutes-september-picks/
LOCATION:Assembly Chef’s Hall\, 111 Richmond Street West\, Toronto\, ON\, M5H 2G5\, Canada
CATEGORIES:Assembly Chef's Hall
ATTACH;FMTTYPE=image/png:https://benmcnallybooks.com/wp-content/uploads/2018/07/black-logo-lock-up-assembly-web.png
ORGANIZER;CN="Ben%20McNally%20Books":MAILTO:info@benmcnallybooks.com
END:VEVENT
END:VCALENDAR