BEGIN:VCALENDAR
VERSION:2.0
PRODID:-//Ben McNally Books - ECPv4.6.26.1//NONSGML v1.0//EN
CALSCALE:GREGORIAN
METHOD:PUBLISH
X-WR-CALNAME:Ben McNally Books
X-ORIGINAL-URL:https://benmcnallybooks.com
X-WR-CALDESC:Events for Ben McNally Books
BEGIN:VEVENT
DTSTART;TZID=UTC+0:20171206T183000
DTEND;TZID=UTC+0:20171206T200000
DTSTAMP:20260422T083639
CREATED:20171113T160238Z
LAST-MODIFIED:20171116T203307Z
UID:1564-1512585000-1512590400@benmcnallybooks.com
SUMMARY:45 Books in 45 Minutes -- Fully Subscribed
DESCRIPTION:We’re sorry to say this event is fully subscribed. \n\nThe days are getting shorter and shorter\, and it’s time to start thinking about holiday reading\, for loved ones or for yourself. For a comprehensive (and quick!) list of the best books of the season\, join Ben McNally and Lynn Thomson as they present two nights of the renowned 45 Books in 45 Minutes. The action starts at 6:30 pm on both nights\, and refreshments will be served. \n \nSpace is limited\, so please do call us at (416) 361-0032 to reserve places. \nYou will be able to book for two places maximum. Please note that late cancellations often deprive someone of a space. Your consideration is appreciated. \n  \n  \n000000
URL:https://benmcnallybooks.com/event/45-books-in-45-minutes-4/
END:VEVENT
END:VCALENDAR