BEGIN:VCALENDAR
VERSION:2.0
PRODID:-//Ben McNally Books - ECPv4.6.26.1//NONSGML v1.0//EN
CALSCALE:GREGORIAN
METHOD:PUBLISH
X-WR-CALNAME:Ben McNally Books
X-ORIGINAL-URL:https://benmcnallybooks.com
X-WR-CALDESC:Events for Ben McNally Books
BEGIN:VEVENT
DTSTART;TZID=UTC+0:20211201T200000
DTEND;TZID=UTC+0:20211201T210000
DTSTAMP:20260422T175359
CREATED:20211030T174221Z
LAST-MODIFIED:20211030T174221Z
UID:4042-1638388800-1638392400@benmcnallybooks.com
SUMMARY:Ann Patchett in Conversation
DESCRIPTION:IndieBookFest via HarperCollinsCanada are hosting an event with Ann Patchett. Ann will be talking about her new book of essays\, These Precious Days. \nWhen: \nWednesday\, December 1\, 8 p.m. \nWhere: \nOnline Only \n  \nRegistration is free with purchase of the book\, so call us or email us to get your copy! \n000000
URL:https://benmcnallybooks.com/event/ann-patchett-in-conversation/
CATEGORIES:Online Only
ATTACH;FMTTYPE=image/png:https://benmcnallybooks.com/wp-content/uploads/2021/10/HB7JXvVQ.png
ORGANIZER;CN="Ben%20McNally%20Books%2FIndieBookFest":MAILTO:info@benmcnallybooks.com
END:VEVENT
END:VCALENDAR