BEGIN:VCALENDAR
VERSION:2.0
PRODID:-//Ben McNally Books - ECPv4.6.26.1//NONSGML v1.0//EN
CALSCALE:GREGORIAN
METHOD:PUBLISH
X-WR-CALNAME:Ben McNally Books
X-ORIGINAL-URL:https://benmcnallybooks.com
X-WR-CALDESC:Events for Ben McNally Books
BEGIN:VEVENT
DTSTART;TZID=UTC+0:20171112T100000
DTEND;TZID=UTC+0:20171112T123000
DTSTAMP:20260422T090134
CREATED:20170628T144740Z
LAST-MODIFIED:20171025T192645Z
UID:1301-1510480800-1510489800@benmcnallybooks.com
SUMMARY:Ben McNally Books and Brunch
DESCRIPTION:When: \nSunday\, November 12\, 10:00 am \nWhere: \nKing Edward Hotel\, 37 King St E. \nBrunch is served in the Vanity Fair Ballroom on the second floor of the King Edward Hotel. \nTickets are $55.00 each (taxes included) and must be purchased in advance. \nTickets are non-refundable. \nPlease call us at 416.361.0032 with your credit card information to reserve tickets \n\nA Newfoundlander in Canada by Alan Doyle \nRandom House Canada \n\n \nHeartfelt\, funny and always insightful\, these stories tap into the complexities of community and Canadianness\, forming the portrait of a young man from a tiny fishing village trying to define and hold on to his sense of home while navigating a vast and diverse and wonder-filled country. \n\nThe Wolf by Nate Blakeslee\nRandom House Canada \n\n \nEconomic\, political\, and natural forces collide in The Wolf\, a riveting multi-generational wildlife saga that tells a larger story about the clash of values in the West–between those fighting for a vanishing way of life and those committed to restoring one of the country’s most vibrant landscapes. \n\nThe Halifax Explosion by Ken Cuthbertson\nPatrick Crean Editions \n\n \nDecember 6\, 2017\, marks the centennial of the great Halifax explosion. The Halifax Explosion tells the gripping\, as-yet untold story of Canada’s worst disaster—a haunting tale of survival\, incredible courage and\, ultimately\, the triumph of the human spirit. \n\nStrangers with the Same Dream by Alison Pick\nKnopf Canada \n\n \nWriting with extraordinary power\, Pick creates unforgettably human characters who\, isolated in the enclosure of their hard-won utopian dream\, are haunted by ghosts\, compromised by unbearable secrets\, and finally\, despite flashes of love and hope\, worn down by hardship\, human frailty\, and the pull of violent confrontation. \n\n\n000000
URL:https://benmcnallybooks.com/event/ben-mcnally-books-and-brunch-3/
LOCATION:King Edward Hotel\, 37 KING STREET EAST\, Toronto\, Ontario\, M5C 1 E9\, Canada
CATEGORIES:Books & Brunch
ATTACH;FMTTYPE=image/jpeg:https://benmcnallybooks.com/wp-content/uploads/2016/05/New-Vanity-Fair-King-Eddy.jpg
ORGANIZER;CN="Ben%20McNally%20Books":MAILTO:info@benmcnallybooks.com
END:VEVENT
END:VCALENDAR