BEGIN:VCALENDAR
VERSION:2.0
PRODID:-//Ben McNally Books - ECPv4.6.26.1//NONSGML v1.0//EN
CALSCALE:GREGORIAN
METHOD:PUBLISH
X-WR-CALNAME:Ben McNally Books
X-ORIGINAL-URL:https://benmcnallybooks.com
X-WR-CALDESC:Events for Ben McNally Books
BEGIN:VEVENT
DTSTART;TZID=UTC+0:20171115T180000
DTEND;TZID=UTC+0:20171115T200000
DTSTAMP:20260422T120805
CREATED:20171025T195223Z
LAST-MODIFIED:20171025T195332Z
UID:1477-1510768800-1510776000@benmcnallybooks.com
SUMMARY:Gare Joyce Book Launch | The Fine Print
DESCRIPTION:Please join Simon and Schuster Canada and The Fine Print to celebrate the launch of  \nThe Young Leafs by Gare Joyce \nWhen: \nWednesday\, November 15\, 6 p.m. \nWhere: \nThe Dora Keogh Pub \n141 Danforth Ave \n\nThe Young Leafs by Gare Joyce \nSimon and Schuster Canada \n\nThe Young Leafs follows the team through a remarkable season\, tracing the divergent journeys of the players leading up to their unlikely campaign. Matthews—the prodigy with the unorthodox path to the NHL. Marner—the baby-faced talent with immense skill and an infectious energy. Nylander—the son of a former hockey professional\, now looking to make his own mark. Reilly—the youngster with the mind of a general. Kadri—the maturing leader once billed as the team’s saviour. \nAs the ups and downs of the season unfold\, the team tries to overcome the ghosts of its past and write a new future\, one that is far from certain. Can a group of precocious kids bond together and become winners? Will they be able to carry the hopes of a city? Most important\, will Toronto finally have a reason to believe again? \n\nGare Joyce \n\n \nGare Joyce has written about sports for over thirty years\, winning four National Magazine Awards and landing on The Best American Sports Writing notable list seven times. Joyce is the author of eleven books\, including Sidney Crosby: Taking the Game by Storm and The Devil and Bobby Hull. He is a senior writer with Sportsnet and was previously a hockey columnist for The Globe and Mail and a staff feature writer for ESPN The Magazine and espn.com. Joyce lives in Toronto\, seven subway stops from the Air Canada Centre. \n\n000000
URL:https://benmcnallybooks.com/event/gare-joyce-book-launch-the-fine-print/
LOCATION:The Dora Keogh\, 141 Danforth Ave\, Toronto\, Ontario\, M4K 1N2\, Canada
CATEGORIES:Fine Print Event
ATTACH;FMTTYPE=image/jpeg:https://benmcnallybooks.com/wp-content/uploads/2017/01/dorakeogh01.jpg
END:VEVENT
END:VCALENDAR