BEGIN:VCALENDAR
VERSION:2.0
PRODID:-//Ben McNally Books - ECPv4.6.26.1//NONSGML v1.0//EN
CALSCALE:GREGORIAN
METHOD:PUBLISH
X-WR-CALNAME:Ben McNally Books
X-ORIGINAL-URL:https://benmcnallybooks.com
X-WR-CALDESC:Events for Ben McNally Books
BEGIN:VEVENT
DTSTART;TZID=UTC+0:20171113T173000
DTEND;TZID=UTC+0:20171113T193000
DTSTAMP:20260422T101626
CREATED:20171025T194105Z
LAST-MODIFIED:20171113T200716Z
UID:1471-1510594200-1510601400@benmcnallybooks.com
SUMMARY:Jack Batten Book Launch | The Fine Print
DESCRIPTION:Please join The Fine Print and Dundurn Press to celebrate the launch of the latest Crang Mystery by Jack Batten\, entitled Booking In. \nWhen: \nMonday\, November 13\, 6 p.m. \nWhere: \nDora Keogh Pub \n141 Danforth Ave. \nSee map here. \n\nBooking In: A Crang Mystery by Jack Batten \nDundurn Press \n\n \nFletcher Marshall is a Toronto antiquarian book dealer\, internationally respected in the business. One night\, someone blows the safe in his office and makes off with the contents\, which include an infamous forged first edition of Elizabeth Barrett Browning’s Sonnets from the Portuguese that is in itself a collector’s item. Fletcher\, who was still in the process of verifying the book\, doesn’t even know whether it was the real thing or a clever forgery (of a forgery). But rather than summon the cops to investigate the theft\, he turns to his pal Crang\, the nervy criminal lawyer\, hoping he can retrieve the books before their owner gets wind of the crime. The owner happens to be the richest woman in Canada and a tough cookie who could ruin Fletcher’s career. \nCrang gets on the hunt\, learning much about the trade in musty books and the lucrative business it makes for forgers. Just as he seems to be getting close to answers\, a shocking development makes things much more complicated — and much more dangerous. \n\nJack Batten \n\n \nJack Batten\, after a brief and unhappy career as a lawyer\, has been a very happy writer for many years. The author of forty books\, Batten has also reviewed jazz for the Globe and Mail\, and\, for twenty-five years\, movies on CBC Radio. He currently writes the biweekly Whodunnit column in the Toronto Star. He lives in Toronto. \n\n\n000000
URL:https://benmcnallybooks.com/event/jack-batten-book-launch-the-fine-print/
LOCATION:The Dora Keogh\, 141 Danforth Ave\, Toronto\, Ontario\, M4K 1N2\, Canada
CATEGORIES:Fine Print Event
ATTACH;FMTTYPE=image/jpeg:https://benmcnallybooks.com/wp-content/uploads/2017/01/dorakeogh01.jpg
END:VEVENT
END:VCALENDAR