BEGIN:VCALENDAR
VERSION:2.0
PRODID:-//Ben McNally Books - ECPv4.6.26.1//NONSGML v1.0//EN
CALSCALE:GREGORIAN
METHOD:PUBLISH
X-WR-CALNAME:Ben McNally Books
X-ORIGINAL-URL:https://benmcnallybooks.com
X-WR-CALDESC:Events for Ben McNally Books
BEGIN:VEVENT
DTSTART;TZID=UTC+0:20180324T110000
DTEND;TZID=UTC+0:20180324T120000
DTSTAMP:20260422T083754
CREATED:20180319T162546Z
LAST-MODIFIED:20180319T163926Z
UID:1773-1521889200-1521892800@benmcnallybooks.com
SUMMARY:Peter Wohlleben Book Signing
DESCRIPTION:Drop by the store this Saturday to meet Peter Wohlleben\, \nauthor of the eminently popular The Hidden Life of Trees\, and The Inner Life of Animals \nWhen: \nMarch 24 @ 11 a.m. \nWhere: \nBen McNally Books \n366 Bay St (South of Richmond) \nFree event! All are welcome! \n\n \nIn this\, his latest book\, Peter Wohlleben follows the hugely successful The Hidden Life of Trees with insightful stories into the emotions\, feelings\, and intelligence of animals around us. Animals are different from us in ways that amaze us—and they are also much closer to us than we ever would have thought. \n\n \nAre trees social beings? Peter Wohlleben draws on groundbreaking scientific discoveries to describe how trees are like human families: tree parents live together with their children\, communicate with them\, support them as they grow\, share nutrients with those who are sick or struggling\, and even warn each other of impending dangers. \n\nPeter Wohlleben spent over twenty years working for the forestry commission in Germany before leaving to put his ideas of ecology into practice. He now runs an environmentally-friendly woodland in Germany\, where he is working for the return of primeval forests. He is the author of numerous books about trees. \n000000
URL:https://benmcnallybooks.com/event/peter-wohlleben-book-signing/
LOCATION:Ben McNally Books\, 108 Queen Street East\, Toronto\, ON\, M5C1S6\, Canada
CATEGORIES:in-store event
ATTACH;FMTTYPE=image/jpeg:https://benmcnallybooks.com/wp-content/uploads/2017/01/BenMcnallyBooks.jpg
ORGANIZER;CN="Ben%20McNally%20Books":MAILTO:info@benmcnallybooks.com
END:VEVENT
END:VCALENDAR